View In:
ArcGIS JavaScript
ArcGIS Online Map Viewer
ArcGIS Earth
ArcGIS Pro
Service Description: Probabilistic seismic-hazard maps were prepared for Alaska portraying peak horizontal acceleration and horizontal spectral response acceleration for 0.2- and 1.0-second periods with probabilities of exceedance of 10 percent in 50 years and 2 percent in 50 years. This particular data set is for peak horizontal acceleration with a 2 percent probability of exceedance in 50 years. All of the maps were prepared by combining the hazard derived from spatially smoothed historic seismicity with the hazard from fault-specific sources. The acceleration values contoured are the random horizontal component. The reference site condition is firm rock, defined as having an average shear-wave velocity of 760 m/sec in the top 30 meters corresponding to the boundary between NEHRP (National Earthquake Hazards Reduction program) site classes B and C.
For more information online visit:
http://pubs.er.usgs.gov/publication/i2679,
http://pubs.er.usgs.gov/publication/ofr9936, and http://earthquake.usgs.gov/hazards/
Map Name: AK_PGA_2PercentIn50Years
Legend
All Layers and Tables
Layers:
-
1:1,128 (L1) (0)
-
1:2,257 (L2) (6)
-
1:4,514 (L3) (12)
-
1:9,028 (L4) (18)
-
1:18,056 (L5) (24)
-
1:36,112 (L6) (30)
-
1:72,224 (L7) (36)
-
1:144,448 (L8) (42)
-
1:288,895 (L9) (48)
-
1:577,791 (L10) (54)
-
1:1,155,581 (L11) (60)
-
1:2,311,162 (L12) (66)
-
1:4,622,324 (L13) (72)
-
1:9,244,649 (L14) (78)
-
1:18,489,298 (L15) (83)
-
1:36,978,595 (L16) (88)
Tables:
Description:
Copyright Text: US Geological Survey National Seismic Hazard Mapping Program
Spatial Reference:
102100
(3857)
LatestVCSWkid(0)
Single Fused Map Cache: true
Tile Info:
- Height: 256.0
- Width: 256.0
- DPI: 96.0
-
Levels of Detail: 20
-
Level ID: 0
[ Start Tile, End Tile ]
- Resolution: 156543.03392800014
- Scale: 5.91657527591555E8
-
Level ID: 1
[ Start Tile, End Tile ]
- Resolution: 78271.51696399994
- Scale: 2.95828763795777E8
-
Level ID: 2
[ Start Tile, End Tile ]
- Resolution: 39135.75848200009
- Scale: 1.47914381897889E8
-
Level ID: 3
[ Start Tile, End Tile ]
- Resolution: 19567.87924099992
- Scale: 7.3957190948944E7
-
Level ID: 4
[ Start Tile, End Tile ]
- Resolution: 9783.93962049996
- Scale: 3.6978595474472E7
-
Level ID: 5
[ Start Tile, End Tile ]
- Resolution: 4891.96981024998
- Scale: 1.8489297737236E7
- Format: PNG
- Compression Quality: 0.0
- Origin: X: -2.0037508342787E7
Y: 2.0037508342787E7
- Spatial Reference: 102100
(3857)
LatestVCSWkid(0)
Storage Info:
- Storage Format: esriMapCacheStorageModeCompactV2
- Packet Size: 128
Initial Extent:
XMin: -2.2127466556167442E7
YMin: 7809758.638564516
XMax: -1.1824978135780986E7
YMax: 1.3024598456290994E7
Spatial Reference: 102100
(0)
LatestVCSWkid(0)
Full Extent:
XMin: -2.0037508342789244E7
YMin: 6106854.834885075
XMax: -1.3914936349159198E7
YMax: 1.175318461533845E7
Spatial Reference: 102100
(0)
LatestVCSWkid(0)
Units: esriMeters
Supported Image Format Types: PNG32,PNG24,PNG,JPG,DIB,TIFF,EMF,PS,PDF,GIF,SVG,SVGZ,BMP
Document Info:
Title: AK pga 2% in 50 years
Author: Ken Rukstales (rukstales@usgs.gov)
Comments: Probabilistic seismic-hazard maps were prepared for Alaska portraying peak horizontal acceleration and horizontal spectral response acceleration for 0.2- and 1.0-second periods with probabilities of exceedance of 10 percent in 50 years and 2 percent in 50 years. This particular data set is for peak horizontal acceleration with a 2 percent probability of exceedance in 50 years. All of the maps were prepared by combining the hazard derived from spatially smoothed historic seismicity with the hazard from fault-specific sources. The acceleration values contoured are the random horizontal component. The reference site condition is firm rock, defined as having an average shear-wave velocity of 760 m/sec in the top 30 meters corresponding to the boundary between NEHRP (National Earthquake Hazards Reduction program) site classes B and C.
For more information online visit:
http://pubs.er.usgs.gov/publication/i2679,
http://pubs.er.usgs.gov/publication/ofr9936, and http://earthquake.usgs.gov/hazards/
Subject: Peak Horizontal Acceleration with 2% Probability of Exceedance in 50 Years (1999)
Category:
Keywords: earthquake,hazard,pga,seismic,Alaska
AntialiasingMode: Best
TextAntialiasingMode: Force
Supports Dynamic Layers: false
Resampling: false
MaxRecordCount: 1000
MaxSelectionCount: 2000
MaxImageHeight: 4096
MaxImageWidth: 4096
Supported Query Formats: JSON, geoJSON, PBF
Supports Query Data Elements: true
Min Scale: 3.6978595474472E7
Max Scale: 36111.909643
Supports Datum Transformation: true
Child Resources:
Info
Supported Operations:
Export Map
Identify
QueryLegends
QueryDomains
Find
Return Updates
Generate KML